BEGIN:VCALENDAR
VERSION:2.0
PRODID:-//Laura A. Macaluso - ECPv5.16.3.1//NONSGML v1.0//EN
CALSCALE:GREGORIAN
METHOD:PUBLISH
X-WR-CALNAME:Laura A. Macaluso
X-ORIGINAL-URL:https://lauramacaluso.com
X-WR-CALDESC:Events for Laura A. Macaluso
BEGIN:VTIMEZONE
TZID:America/New_York
BEGIN:DAYLIGHT
TZOFFSETFROM:-0500
TZOFFSETTO:-0400
TZNAME:EDT
DTSTART:20210314T070000
END:DAYLIGHT
BEGIN:STANDARD
TZOFFSETFROM:-0400
TZOFFSETTO:-0500
TZNAME:EST
DTSTART:20211107T060000
END:STANDARD
END:VTIMEZONE
BEGIN:VEVENT
DTSTART;VALUE=DATE:20210325
DTEND;VALUE=DATE:20210328
DTSTAMP:20260425T171531
CREATED:20200702T135411Z
LAST-MODIFIED:20201227T140317Z
UID:640-1616630400-1616889599@lauramacaluso.com
SUMMARY:Crafting History and a Place of Honor for Mary Brice at Point of Honor
DESCRIPTION:Canceled due to COVID-19.
URL:https://lauramacaluso.com/event/virginia-forum/
LOCATION:Virginia War Memorial\, Richmond\, VA
END:VEVENT
END:VCALENDAR