BEGIN:VCALENDAR
VERSION:2.0
PRODID:-//Laura A. Macaluso - ECPv5.16.3.1//NONSGML v1.0//EN
CALSCALE:GREGORIAN
METHOD:PUBLISH
X-WR-CALNAME:Laura A. Macaluso
X-ORIGINAL-URL:https://lauramacaluso.com
X-WR-CALDESC:Events for Laura A. Macaluso
BEGIN:VTIMEZONE
TZID:America/New_York
BEGIN:DAYLIGHT
TZOFFSETFROM:-0500
TZOFFSETTO:-0400
TZNAME:EDT
DTSTART:20230312T070000
END:DAYLIGHT
BEGIN:STANDARD
TZOFFSETFROM:-0400
TZOFFSETTO:-0500
TZNAME:EST
DTSTART:20231105T060000
END:STANDARD
END:VTIMEZONE
BEGIN:VEVENT
DTSTART;TZID=America/New_York:20230209T110000
DTEND;TZID=America/New_York:20230209T153000
DTSTAMP:20260425T170234
CREATED:20221222T180026Z
LAST-MODIFIED:20221222T180026Z
UID:1546-1675940400-1675956600@lauramacaluso.com
SUMMARY:Maps and Social Justice
DESCRIPTION:Are you or your organization doing work that uses maps\, GIS or other geospatial approaches to teach about social justice topics?  Is your work open to anyone to use and have applications for the K-12 classroom?  If so\, then we want to connect with you!\nU-Spatial at the University of Minnesota\, the Leventhal Map & Education Center\, and New American History are hosting a virtual convening to connect like-minded institutions and organizations.
URL:https://lauramacaluso.com/event/maps-and-social-justice/
LOCATION:Leventhal Map and Education Center
END:VEVENT
END:VCALENDAR